BEGIN:VCALENDAR
VERSION:2.0
PRODID:-//Heiderand Mall - ECPv6.15.20//NONSGML v1.0//EN
CALSCALE:GREGORIAN
METHOD:PUBLISH
X-ORIGINAL-URL:https://www.heiderandmall.co.za
X-WR-CALDESC:Events for Heiderand Mall
REFRESH-INTERVAL;VALUE=DURATION:PT1H
X-Robots-Tag:noindex
X-PUBLISHED-TTL:PT1H
BEGIN:VTIMEZONE
TZID:Africa/Johannesburg
BEGIN:STANDARD
TZOFFSETFROM:+0200
TZOFFSETTO:+0200
TZNAME:SAST
DTSTART:20220101T000000
END:STANDARD
END:VTIMEZONE
BEGIN:VEVENT
DTSTART;TZID=Africa/Johannesburg:20231221T190000
DTEND;TZID=Africa/Johannesburg:20231221T200000
DTSTAMP:20260423T162344
CREATED:20231207T102534Z
LAST-MODIFIED:20231207T102534Z
UID:11594-1703185200-1703188800@www.heiderandmall.co.za
SUMMARY:Autism Hour
DESCRIPTION:Autism Hour exclusively for photos with Santa.\nWe are inviting all sensory sensitive children to visit Heiderand Mall on 21 December between 7 PM and 8 PM to have their photo taken with Santa.
URL:https://www.heiderandmall.co.za/event/autism-hour/
CATEGORIES:Community Projects,Entertainment Events
ATTACH;FMTTYPE=image/png:https://www.heiderandmall.co.za/wp-content/uploads/2023/12/Website-design-5.png
END:VEVENT
BEGIN:VEVENT
DTSTART;VALUE=DATE:20231127
DTEND;VALUE=DATE:20240113
DTSTAMP:20260423T162344
CREATED:20231127T062812Z
LAST-MODIFIED:20231207T072338Z
UID:11547-1701043200-1705103999@www.heiderandmall.co.za
SUMMARY:Back to school shoebox project
DESCRIPTION:Help make a difference and donate a shoebox with school supplies to a child in need.\n\n\n\nDonation supplies:\n1 x Ruler\, 1 x pencil\, 1 x pen\, 1 x Pritt glue\, 1 x scissors\, 1 x sharpener\, 1 x eraser.\n\n\n\nDrop off: Heiderand Mall – Mossel Bay (centre management office).\nMonday – Friday 8 a.m. – 5 p.m.\n\n\nClosing date for donations: 12 January 2024 @ 5 p.m.
URL:https://www.heiderandmall.co.za/event/back-to-school-shoebox-project/
CATEGORIES:Community Projects
ATTACH;FMTTYPE=image/png:https://www.heiderandmall.co.za/wp-content/uploads/2023/12/Website-Design.png
END:VEVENT
BEGIN:VEVENT
DTSTART;VALUE=DATE:20231113
DTEND;VALUE=DATE:20231217
DTSTAMP:20260423T162344
CREATED:20231113T145718Z
LAST-MODIFIED:20231207T072359Z
UID:11538-1699833600-1702771199@www.heiderandmall.co.za
SUMMARY:Tree of hope initiative
DESCRIPTION:Help us make a difference in spoiling a child in need this festive season.\n\nDROP OFF POINT: Heiderand Mall centre management office.\nDATE: 13 November – 13 December TIME: 8 a.m. – 5 p.m. (Monday – Friday)\n\nPlease write the gender and age on the gift.
URL:https://www.heiderandmall.co.za/event/tree-of-hope-initiative/
CATEGORIES:Community Projects
ATTACH;FMTTYPE=image/png:https://www.heiderandmall.co.za/wp-content/uploads/2023/11/Website-design-2.png
END:VEVENT
BEGIN:VEVENT
DTSTART;TZID=Africa/Johannesburg:20230905T080000
DTEND;TZID=Africa/Johannesburg:20230930T000000
DTSTAMP:20260423T162344
CREATED:20230905T070757Z
LAST-MODIFIED:20230905T090857Z
UID:11403-1693900800-1696032000@www.heiderandmall.co.za
SUMMARY:We Care
DESCRIPTION:Heiderand Mall – Mossel Bay is privileged to have won a Mongoose BMX bicycle worth R5000.00 from STAT Warehouse and we would like to pay it forward. \nNominate a child in need and you could win a R1000.00 Heiderand Mall Gift Card. \nTerms and Conditions \n\nBy nominating an individual\, entrants agree to the terms and conditions set out below. The promoter reserves the right to disqualify a participant who does not comply with any of the terms and conditions of the campaign.\nThe campaign is open to everyone except the following people: a) a director\, member\, partner\, employee or agent of or consultant to the promoter or any other person who directly or indirectly controls or is controlled by the promoter as well as a supplier of goods or services in connection with the campaign; or b) a spouse\, life partner\, parent\, child\, brother\, sister\, business partner or associate of a person contemplated in paragraph (a).\nEntrants must be South African citizens and the nominee must reside in the Garden Route to qualify for the entry.\nThis campaign is being run for J.T.A. Properties (Pty) Limited.\nThe campaign commences on 5 September 2023 and closes on 30 September 2023 at midnight. Late entries will be disqualified.\nThe chosen nominee will receive: a Mongoose BMX bicycle worth R5000.00 and the nominator will receive: a R1000 Heiderand Mall gift Card.\nEntrants must nominate a child in need by writing a short description on the Heiderand Mall website (pop-up on the homepage).\nThe chosen nominator and nominee will be informed telephonically on 3 October 2023.\nHeiderand Mall reserves the right to publish the chosen nominator and nominee’s story\, as received by e-mail.\nThe judges’ decision is final and no correspondence will be entered into.\nThe chosen nominator and nominee may be required to appear on television or radio\, in print publications\, or online sites to endorse\, promote or advertise the goods or services J.T.A. Properties (Pty) Limited. However\, participants/winners of the give-away shall at all times be entitled to decline the above request.\nBy entering you authorise J.T.A. Properties (Pty) Limited to collect\, store and use (not share) personal information of entrants for communication or statistical purposes.\nThe nominator and nominee will be expected to return to the mall for administration purposes by Centre Management.\nAll risk pertaining to the passes to the chosen nominee on signing over and receipt thereof.\nQueries can be directed to marketing@heiderandmall.co.za\nSee “website” and Heiderand Mall on Facebook for more info.\n\n 
URL:https://www.heiderandmall.co.za/event/we-care/
CATEGORIES:Community Projects,Heiderand News Events
ATTACH;FMTTYPE=image/png:https://www.heiderandmall.co.za/wp-content/uploads/2023/09/We-care-campaign-1900-x-1484-px-2.png
END:VEVENT
END:VCALENDAR