BEGIN:VCALENDAR
VERSION:2.0
PRODID:-//Heiderand Mall - ECPv6.15.20//NONSGML v1.0//EN
CALSCALE:GREGORIAN
METHOD:PUBLISH
X-WR-CALNAME:Heiderand Mall
X-ORIGINAL-URL:https://www.heiderandmall.co.za
X-WR-CALDESC:Events for Heiderand Mall
REFRESH-INTERVAL;VALUE=DURATION:PT1H
X-Robots-Tag:noindex
X-PUBLISHED-TTL:PT1H
BEGIN:VTIMEZONE
TZID:Africa/Johannesburg
BEGIN:STANDARD
TZOFFSETFROM:+0200
TZOFFSETTO:+0200
TZNAME:SAST
DTSTART:20220101T000000
END:STANDARD
END:VTIMEZONE
BEGIN:VTIMEZONE
TZID:UTC
BEGIN:STANDARD
TZOFFSETFROM:+0000
TZOFFSETTO:+0000
TZNAME:UTC
DTSTART:20210101T000000
END:STANDARD
END:VTIMEZONE
BEGIN:VEVENT
DTSTART;TZID=Africa/Johannesburg:20250412T100000
DTEND;TZID=Africa/Johannesburg:20250412T130000
DTSTAMP:20260423T143827
CREATED:20250514T081440Z
LAST-MODIFIED:20250514T081440Z
UID:12078-1744452000-1744462800@www.heiderandmall.co.za
SUMMARY:Dolfie Club Easter Event
DESCRIPTION:Hey Dolfie Kids!\nIt is almost time for the annual Dolfie Club Easter Event and this year it is going to be even more exciting.\nSee Heiderand Mall Mossel Bay on Facebook for more.
URL:https://www.heiderandmall.co.za/event/dolfie-club-easter-event-2/
CATEGORIES:Entertainment Events,Kids Club Events
ATTACH;FMTTYPE=image/png:https://www.heiderandmall.co.za/wp-content/uploads/2025/05/Website.png
END:VEVENT
BEGIN:VEVENT
DTSTART;TZID=Africa/Johannesburg:20240824T100000
DTEND;TZID=Africa/Johannesburg:20240824T130000
DTSTAMP:20260423T143827
CREATED:20240716T135713Z
LAST-MODIFIED:20240716T135713Z
UID:11886-1724493600-1724504400@www.heiderandmall.co.za
SUMMARY:Dolfie Club Photo Shoot
DESCRIPTION:
URL:https://www.heiderandmall.co.za/event/dolfie-club-photo-shoot-2/
CATEGORIES:Kids Club Events
END:VEVENT
BEGIN:VEVENT
DTSTART;TZID=Africa/Johannesburg:20240817T100000
DTEND;TZID=Africa/Johannesburg:20240817T130000
DTSTAMP:20260423T143827
CREATED:20240716T132431Z
LAST-MODIFIED:20240716T135855Z
UID:11883-1723888800-1723899600@www.heiderandmall.co.za
SUMMARY:Dolfie Club Photo Shoot
DESCRIPTION:
URL:https://www.heiderandmall.co.za/event/dolfie-club-photo-shoot/
CATEGORIES:Kids Club Events
END:VEVENT
BEGIN:VEVENT
DTSTART;TZID=Africa/Johannesburg:20240316T100000
DTEND;TZID=Africa/Johannesburg:20240316T130000
DTSTAMP:20260423T143827
CREATED:20240303T103407Z
LAST-MODIFIED:20240702T140013Z
UID:11691-1710583200-1710594000@www.heiderandmall.co.za
SUMMARY:Dolfie Club Easter Event
DESCRIPTION:
URL:https://www.heiderandmall.co.za/event/dolfie-club-easter-event/
CATEGORIES:Entertainment Events,Kids Club Events
END:VEVENT
BEGIN:VEVENT
DTSTART;TZID=Africa/Johannesburg:20230729T090000
DTEND;TZID=Africa/Johannesburg:20230729T140000
DTSTAMP:20260423T143827
CREATED:20230623T124348Z
LAST-MODIFIED:20230905T071207Z
UID:11256-1690621200-1690639200@www.heiderandmall.co.za
SUMMARY:Kids Club Photo Competition
DESCRIPTION:Hey Dolfie kids…..\n\n\nVisit Heiderand Mall on Saturday\, 22 July or Saturday\, 29 July between 9a.m. and 2p.m. and have your photo taken in the Centre Court (Entrance 1) in front of Dis-Chem.\n\n\n\n\nTerms and Conditions:\n\n\nThis Competition is being run for J.T.A. Properties (PTY) Limited hereinafter the (“PROMOTER”).\nBy entering into the Competition\, entrants agree to the Terms and Conditions set out below. The PROMOTER reserves the right to disqualify a participant who does not comply with any of the Terms and Conditions of the Competition.\nThis competition is open to Dolfie Club Members between the age of 2 years – 12 years as entrants\, except for minors of:\na) a director\, member\, partner\, employee or agent of or consultant to the PROMOTER or any other person who directly or indirectly controls or is controlled by the PROMOTER as well as a supplier of goods or services in connection with the Competition; or\nb) a spouse\, life partner\, parent\, business partner or associate of a person contemplated in paragraph (a). or\nc) Heiderand Mall tenants\, staff\, sponsors and/or their direct family members.\nEntrants must be duly assisted by a parent or legal guardian at all times.\nThe competition will take place on 22 July 2023 & 29 July 2023 between 9a.m. and 2p.m. at Heiderand Mall (Centre Court).   The winners will be determined by independent judges and notified telephonically.  The winners will also be announced on the Heiderand Mall Facebook page on 4 August 2023.\nSteps to enter the competition: Participants needs to be a Dolfie Club member to be able to participate in the competition.  The guardian will have to complete the entry form and have their child’s picture taken by the photographer on said dates.\n7. The Promoter reserves the right to cancel or alter any aspect of the competition or the Competition Rules at any time in the Promoter’s sole discretion and without any liability.\n8. Winners may be requested to appear on television or radio\, in print publications\, or online sites to endorse\, promote or advertise the goods or services of the PROMOTER. However\, participants/winners of the Competition shall at all times be entitled to decline the aforesaid request.\nBy entering this competition\, you consent to the PROMOTER to collect\, store and use (not share) personal information of entrants for communication or statistical purposes in accordance with the Consumer Protection Act 68 of 2008 and the Protection of Personal Information Act 4 of 2013.\nAll risk and liability pertaining to any prize shall pass to the winner on signing over and receipt thereof. By completing the entry form\, winners indemnify the PROMOTER and its agents against any claim that may arise as a result of the Competition and/or prize awarded to any winner.\nThe judges’ decision is final\, and no correspondence will be entered into.\nQueries can be directed to Jo-Ann Victor at 044-6930965.\nWinners will be expected to return to the mall to collect their prizes from Centre Management.\nA copy of these competition rules are also available at “www.heiderandmall.co.za. ”
URL:https://www.heiderandmall.co.za/event/kids-club-photo-competition-3/
LOCATION:Heiderand Mall\, Cnr. Louis Fourie and Melkhout Street\, Heiderand\, Mossel Bay\, 6511\, South Africa
CATEGORIES:Kids Club Events
ATTACH;FMTTYPE=image/png:https://www.heiderandmall.co.za/wp-content/uploads/2023/06/Photo-Competition-Website-.png
ORGANIZER;CN="Jo Ann Victor":MAILTO:marketing@heiderandmall.co.za
END:VEVENT
BEGIN:VEVENT
DTSTART;TZID=UTC:20220416T100000
DTEND;TZID=UTC:20220416T130000
DTSTAMP:20260423T143827
CREATED:20220401T070059Z
LAST-MODIFIED:20220423T080021Z
UID:8212-1650103200-1650114000@www.heiderandmall.co.za
SUMMARY:Dolfie Kids Club Easter Egg Hand Out
DESCRIPTION:Hey Dolfie Kids….. \nVisit the centre management office 11 April 2022 – 14 April 2022\, between 8a.m. and 5p.m.\, or 16 April between 10a.m. and 1p.m. (in front of Dis-Chem) to collect your new Heiderand Mall – Dolfie Club membership card and receive a free t-shirt. \nWhere your new Dolfie Club t-shirt on Saturday\, 16 April and have your picture taken with the Easter bunny between 10a.m. and 1p.m. Prizes to the value of R5000.00 up for grabs.  So don’t miss out! \nNon Dolfie club kids…contact centre management 044-6930965…and find out more on how to become a member.
URL:https://www.heiderandmall.co.za/event/easter-competition-and-egg-handout/
LOCATION:Heiderand Mall\, Cnr. Louis Fourie and Melkhout Street\, Heiderand\, Mossel Bay\, 6511\, South Africa
CATEGORIES:Kids Club Events
ATTACH;FMTTYPE=image/jpeg:https://www.heiderandmall.co.za/wp-content/uploads/2022/04/AdobeStock_257033446-scaled.jpeg
ORGANIZER;CN="Jo Ann Victor":MAILTO:marketing@heiderandmall.co.za
END:VEVENT
END:VCALENDAR